BEGIN:VCALENDAR
VERSION:2.0
PRODID:-//WBOOKS - ECPv6.15.18//NONSGML v1.0//EN
CALSCALE:GREGORIAN
METHOD:PUBLISH
X-WR-CALNAME:WBOOKS
X-ORIGINAL-URL:https://wbooks.com
X-WR-CALDESC:Evenementen voor WBOOKS
REFRESH-INTERVAL;VALUE=DURATION:PT1H
X-Robots-Tag:noindex
X-PUBLISHED-TTL:PT1H
BEGIN:VTIMEZONE
TZID:Europe/Paris
BEGIN:DAYLIGHT
TZOFFSETFROM:+0100
TZOFFSETTO:+0200
TZNAME:CEST
DTSTART:20240331T010000
END:DAYLIGHT
BEGIN:STANDARD
TZOFFSETFROM:+0200
TZOFFSETTO:+0100
TZNAME:CET
DTSTART:20241027T010000
END:STANDARD
BEGIN:DAYLIGHT
TZOFFSETFROM:+0100
TZOFFSETTO:+0200
TZNAME:CEST
DTSTART:20250330T010000
END:DAYLIGHT
BEGIN:STANDARD
TZOFFSETFROM:+0200
TZOFFSETTO:+0100
TZNAME:CET
DTSTART:20251026T010000
END:STANDARD
BEGIN:DAYLIGHT
TZOFFSETFROM:+0100
TZOFFSETTO:+0200
TZNAME:CEST
DTSTART:20260329T010000
END:DAYLIGHT
BEGIN:STANDARD
TZOFFSETFROM:+0200
TZOFFSETTO:+0100
TZNAME:CET
DTSTART:20261025T010000
END:STANDARD
BEGIN:DAYLIGHT
TZOFFSETFROM:+0100
TZOFFSETTO:+0200
TZNAME:CEST
DTSTART:20270328T010000
END:DAYLIGHT
BEGIN:STANDARD
TZOFFSETFROM:+0200
TZOFFSETTO:+0100
TZNAME:CET
DTSTART:20271031T010000
END:STANDARD
END:VTIMEZONE
BEGIN:VEVENT
DTSTART;VALUE=DATE:20251122
DTEND;VALUE=DATE:20260328
DTSTAMP:20260424T211956
CREATED:20260309T114417Z
LAST-MODIFIED:20260309T114417Z
UID:249031-1763769600-1774655999@wbooks.com
SUMMARY:TENTOONSTELLING | OP reis door Noord-Holland
DESCRIPTION:Wat hebben een middeleeuws kloosterregister\, een foto van de Zeesluis IJmuiden en een oude handgetekende kaart gemeen? Ze liggen allemaal verborgen in de depots van het Noord-Hollands Archief en ze vertellen stuk voor stuk een verhaal.
URL:https://wbooks.com/event/tentoonstelling-op-reis-door-noord-holland/
LOCATION:Noord-Hollands Archief\, Jansstraat 40\, Haarlem\, 2011 RX\, Netherlands
CATEGORIES:tentoonstelling
ATTACH;FMTTYPE=image/png:https://wbooks.com/wp-content/uploads/2025/07/Op-reis-door-Noord-Holland_3D_small_image-1.png
ORGANIZER;CN="Noord-Hollands Archief":MAILTO:info@noord-hollandsarchief.nl
END:VEVENT
BEGIN:VEVENT
DTSTART;VALUE=DATE:20250920
DTEND;VALUE=DATE:20260119
DTSTAMP:20260424T211956
CREATED:20250903T123902Z
LAST-MODIFIED:20250903T123902Z
UID:189508-1758326400-1768780799@wbooks.com
SUMMARY:Tentoonstelling | Brancusi\, De geboorte van moderne sculptuur
DESCRIPTION:Op zaterdag 20 september opent H’ART Museum een bijzondere tentoonstelling: Brancusi\, The Birth of Modern Sculpture. Voor het eerst komt een toonaangevende collectie kunstwerken van Constantin Brancusi (1876-1957) naar Amsterdam.\nDe kunstenaar wordt wereldwijd beschouwd als de grondlegger van de moderne beeldhouwkunst. De tentoonstelling is gemaakt in samenwerking met het Parijse museum Centre Pompidou.\nNaast meer dan 30 meesterwerken\, inclusief de originele sokkels die Brancusi zelf ontwierp\, worden ook foto’s en films van zijn hand getoond.
URL:https://wbooks.com/event/tentoonstelling-brancusi-de-geboorte-van-moderne-sculptuur/
LOCATION:H’ART Museum\, Amstel 51\, Amsterdam\, Noord-Holland\, 1018 EJ\, Netherlands
CATEGORIES:tentoonstelling
ATTACH;FMTTYPE=image/png:https://wbooks.com/wp-content/uploads/2025/09/Brancusi_NL_3D_small_image.png
ORGANIZER;CN="H'ART Museum":MAILTO:mail@hartmuseum.nl
END:VEVENT
BEGIN:VEVENT
DTSTART;VALUE=DATE:20251025
DTEND;VALUE=DATE:20260407
DTSTAMP:20260424T211956
CREATED:20250903T124917Z
LAST-MODIFIED:20250903T124917Z
UID:189513-1761350400-1775519999@wbooks.com
SUMMARY:Tentoonstelling | Atlas van Mokum
DESCRIPTION:Mokum’ – het Jiddische woord voor ‘plaats’ of ‘stad’ – werd met de tijd een liefkozende bijnaam voor Amsterdam. Honderden objecten\, verdeeld over dertien hoofdstukken\, laten zien hoe Joodse bewoners Amsterdam hebben gevormd. \nDe invloed van Jiddische woorden\, zoals tof\, mazzel en gozer\, is nog dagelijks terug te horen op straat. Oud-inwoners als Baruch Spinoza\, Samuel Sarphati en Anne Frank zijn wereldberoemd\, en beeldbepalende plekken als De Bijenkorf\, Tuschinski en het Amstel Hotel zouden nooit gebouwd zijn zonder Joodse initiatiefnemers. \nDe tentoonstelling vertelt ook de indringende verhalen van vervolging\, de moord op 60.000 Joodse inwoners tijdens de Tweede Wereldoorlog en het trage proces van erkenning en excuses\, uiteindelijk uitgesproken door burgemeester Femke Halsema in 2025. Tegelijkertijd is er ruimte voor de heropleving en nieuwe invulling van religieuze en culturele identiteit. \nMokum – De biografie van Joods Amsterdam is een ode aan een gemeenschap die al vier eeuwen lang onlosmakelijk verbonden is met het DNA van de stad. Zoals burgemeester Halsema het verwoordde: “Zonder Joods leven is er geen Amsterdam.”
URL:https://wbooks.com/event/tentoonstelling-atlas-van-mokum/
LOCATION:De Nieuwe Kerk\, De Dam\, Amsterdam\, Noord-Holland\, 1012 NL\, Nederland
CATEGORIES:tentoonstelling
ATTACH;FMTTYPE=image/png:https://wbooks.com/wp-content/uploads/2025/09/Atlas-van-Mokum_3D-scaled.png
ORGANIZER;CN="De Nieuwe Kerk Amsterdam":MAILTO:mail@nieuwekerk.nl
END:VEVENT
BEGIN:VEVENT
DTSTART;VALUE=DATE:20250907
DTEND;VALUE=DATE:20251208
DTSTAMP:20260424T211956
CREATED:20250903T130405Z
LAST-MODIFIED:20251208T100103Z
UID:189517-1757203200-1765151999@wbooks.com
SUMMARY:Tentoonstelling | Nieuwe Haagse School
DESCRIPTION:In de jaren vijftig bloeide er in Den Haag een verrassend vernieuwende en experimentele kunstbeweging op: de Nieuwe Haagse School.\nOnder het motto ‘Bovenal vrij’ braken de kunstenaars binnen deze beweging\, actief tussen 1945 en 1975\, met het keurige imago van hun voorgangers van de Haagse School. Het werk van de Nieuwe Haagse School kenmerkt zich door uitbundig kleurgebruik. Zij drukten zich onder meer uit in abstracte\, non-figuratieve en modern-figuratieve kunst. Het Kunstmuseum brengt met deze kleine tentoonstelling ter ere van de gelijknamige publicatie Nieuwe Haagse School – Bovenal vrij\, een veranderlijke periode opnieuw onder de aandacht.
URL:https://wbooks.com/event/tentoonstelling-nieuwe-haagse-school/
LOCATION:Kunstmuseum Den Haag\, Stadhouderslaan 41\, Den Haag\, Zuid-Holland\, 2517 HV\, Nederland
CATEGORIES:tentoonstelling
ATTACH;FMTTYPE=image/png:https://wbooks.com/wp-content/uploads/2025/09/Nieuwe-Haagse-School_3D_small_image.png
ORGANIZER;CN="Kunstmuseum Den Haag":MAILTO:info@kunstmuseum.nl
END:VEVENT
BEGIN:VEVENT
DTSTART;VALUE=DATE:20251004
DTEND;VALUE=DATE:20260302
DTSTAMP:20260424T211956
CREATED:20250903T135223Z
LAST-MODIFIED:20250903T135223Z
UID:189520-1759536000-1772409599@wbooks.com
SUMMARY:Tentoonstelling | De schilders van Den Haag
DESCRIPTION:Van plein-air pioniers tot hedendaagse lichtvangers.\nDe tentoonstelling Licht\, Lucht\, Water – de schilders van Den Haag is een visueel rijke en verrassende tentoonstelling die vanuit kunsthistorisch perspectief de ontwikkeling van de Haagse schilderkunst over twee eeuwen toont. Van 19e-eeuwse meesters als Andreas Schelfhout tot hedendaagse kunstenaars als Sebastiaan Spit: allen vonden en vinden inspiratie in hetzelfde fenomeen – het veranderende kustlicht van Den Haag.
URL:https://wbooks.com/event/tentoonstelling-de-schilders-van-den-haag/
LOCATION:Museum Panorama Mesdag\, Zeestraat 65\, Den Haag\, Zuid-Holland\, 2581 AA\, Netherlands
CATEGORIES:tentoonstelling
ATTACH;FMTTYPE=image/png:https://wbooks.com/wp-content/uploads/2025/09/Schilders-van-Den-Haag_3D_small_image.png
ORGANIZER;CN="Museum Panorama Mesdag":MAILTO:info@panorama-mesdag.nl
END:VEVENT
BEGIN:VEVENT
DTSTART;VALUE=DATE:20250906
DTEND;VALUE=DATE:20260302
DTSTAMP:20260424T211956
CREATED:20250904T064514Z
LAST-MODIFIED:20250904T064514Z
UID:189644-1757116800-1772409599@wbooks.com
SUMMARY:Tentoonstelling | Wybrand de Geest
DESCRIPTION:Het Fries Museum opent op 6 september 2025 een tentoonstelling over de Friese kunstenaar Wybrand de Geest (1592-1663/65)\, een van de belangrijkste portretschilders van de 17de eeuw.\n Glanzend fluweel\, ruisend brokaat\, verfijnde kanten kragen en flonkerende juwelen: niemand kon rijkdom zo van het doek af laten spatten als hij. De Friese elite liet zich dan ook graag door Wybrand portretteren. \nDe tentoonstelling laat de high society en de glamour in de 17de eeuw zien aan de hand van portretten die Wybrand de Geest maakte van onder meer de Friese Nassaus\, de rijke elite en hun steenrijke kinderen. Wie was deze schilder? Hoe wist hij zich binnen de ‘happy few’ te nestelen?
URL:https://wbooks.com/event/tentoonstelling-wybrand-de-geest/
LOCATION:Het Fries Museum\, Wihleminaplein 92\, Leeuwarden\, Friesland\, 8911 BL\, Netherlands
CATEGORIES:tentoonstelling
ATTACH;FMTTYPE=image/png:https://wbooks.com/wp-content/uploads/2025/09/Wybrandt-de-Geest_3D_small_image.png
ORGANIZER;CN="Het Fries Museum":MAILTO:info@friesmuseum.nl
END:VEVENT
BEGIN:VEVENT
DTSTART;VALUE=DATE:20251027
DTEND;VALUE=DATE:20260302
DTSTAMP:20260424T211956
CREATED:20251027T133341Z
LAST-MODIFIED:20251027T133341Z
UID:225911-1761523200-1772409599@wbooks.com
SUMMARY:Thuisreis - De jonge jaren van Marga Minco
DESCRIPTION:De tentoonstelling Thuisreis vertelt het persoonlijke verhaal van de jonge jaren van Marga Minco (1920 – 2023). De schrijfster van de oorlogskroniek Het bittere kruid (1957) wordt geboren in Ginneken en groeit op in een hecht Joods gezin waar kunst en muziek niet weg te denken zijn. In 1938 start ze haar schrijverscarrière als leerling-journalist bij de Bredasche Courant; nog niet wetende hoe de wereld in een paar jaar drastisch zou veranderen. \nFoto’s van Jan de Jong (1898 – 1971) laten je in de tentoonstelling het Breda van omstreeks 1935 zien\, het Breda van Marga Minco. Aan de hand van herinneringen\, zoals die aan het Valkenberg\, het Mastbos\, de Grote Markt en het Kasteelplein\, zie je de stad door haar ogen. \nMarga Minco heeft haar herinneringen niet alleen in woord\, maar ook in beeld vastgelegd. Dit schaduwoeuvre wordt nu voor het eerst tentoongesteld. De kleine schilderijen verbeelden elementen uit Minco’s jeugd in Ginneken en Breda. Gecombineerd met familiefoto’s en een album met getekende ‘herinneringsflitsen’\, geven ze een intieme kijk in het leven van een Joods gezin in het interbellum. \nMarga Minco maakte het album met herinneringen in 1942 als huwelijkscadeau voor haar zus Bettie. Ze ging ervan uit dat het in de oorlog verloren was gegaan\, maar via een aangetrouwd familielid in Amerika kwam het weer bij haar terug: de inspiratie voor haar laatste roman Nagelaten dagen (1997).
URL:https://wbooks.com/event/thuisreis-de-jonge-jaren-van-marga-minco/
LOCATION:Stedelijk Museum Breda\, Boschstraat 22\, Breda\, Noord-Braband\, 4811 GH\, Netherlands
CATEGORIES:tentoonstelling
ATTACH;FMTTYPE=image/png:https://wbooks.com/wp-content/uploads/2025/10/Marga-Minco_small_image.png
ORGANIZER;CN="Stedelijk Museum Breda":MAILTO:info@stedelijkmuseumbreda.nl
END:VEVENT
BEGIN:VEVENT
DTSTART;VALUE=DATE:20251108
DTEND;VALUE=DATE:20260406
DTSTAMP:20260424T211956
CREATED:20251027T133926Z
LAST-MODIFIED:20251208T100832Z
UID:225915-1762560000-1775433599@wbooks.com
SUMMARY:TENTOONSTELLING | Van Bauhaus naar Mekka
DESCRIPTION:In de tentoonstelling Van Bauhaus naar Mekka leer je de fascinerende architect Dr. Mahmoud Bodo Rasch kennen. Geboren in een Duits kunstenaarsgezin en na het volgen van een architectuurstudie\, leek hij voorbestemd om de modernistische ideeën van het naoorlogse Europa te gaan volgen. Maar hij maakte een andere keuze: hij bekeerde zich tot de islam en werd één van de belangrijkste architecten van de islamitische religieuze wereld. Zijn ontwerpen voor de hadj (de islamitische pelgrimstocht) in Mekka en Medina zijn wereldberoemd\, maar hijzelf bleef onbekend. In deze tentoonstelling zie je meer dan 200 maquettes\, tekeningen\, foto’s en andere objecten van de hand van Rasch. Daarnaast zie je werk van jonge ontwerpers uit het Midden-Oosten. Zo ontdek je dat de tegenstelling tussen het Europese modernisme en de islamitische wereld lang niet zo groot is als vaak wordt gedacht.
URL:https://wbooks.com/event/van-bauhaus-naar-mekka/
LOCATION:Design Museum Den Bosch\, De Mortel 4\, ‘s-Hertogenbosch\, Noord-Braband\, 5211 HV
CATEGORIES:tentoonstelling
ATTACH;FMTTYPE=image/png:https://wbooks.com/wp-content/uploads/2025/11/3D-Van-_Bauhaus_naar_Mekka_small_image.png
ORGANIZER;CN="Design Museum Den Bosch":MAILTO:info@designmuseum.nl
END:VEVENT
BEGIN:VEVENT
DTSTART;VALUE=DATE:20250426
DTEND;VALUE=DATE:20251208
DTSTAMP:20260424T211956
CREATED:20250131T103248Z
LAST-MODIFIED:20250923T075752Z
UID:152517-1745625600-1765151999@wbooks.com
SUMMARY:Tentoonstelling | De wereld van De Witt
DESCRIPTION:Kunst uit het hart van de 17e eeuw\nHet Dordrechts Museum staat in het 400ste geboortejaar stil bij het leven van Johan de Witt\, een van de belangrijkste en bekendste politici uit de Nederlandse geschiedenis. In een historische kunsttentoonstelling met werken van de beroemdste kunstenaars uit de zeventiende eeuw\, stelt het museum de vraag: wie was Johan de Witt?
URL:https://wbooks.com/event/tentoonstelling-de-wereld-van-de-witt/
LOCATION:Dordrechts museum\, Museumstraat 40\, Dordrecht\, Zuid- Holland\, 3311 XP\, Nederland
CATEGORIES:tentoonstelling
ATTACH;FMTTYPE=image/png:https://wbooks.com/wp-content/uploads/2024/12/De-wereld-van-De-Witt_3D_small_image.png
END:VEVENT
BEGIN:VEVENT
DTSTART;VALUE=DATE:20250412
DTEND;VALUE=DATE:20250922
DTSTAMP:20260424T211956
CREATED:20250203T153213Z
LAST-MODIFIED:20250903T115224Z
UID:152790-1744416000-1758499199@wbooks.com
SUMMARY:Tentoonstelling | Verfijnde lijnen
DESCRIPTION:De tentoonstelling toont ruim 40 topstukken uit Nederlandse en internationale collecties\, waaronder werken die nooit eerder zijn geëxposeerd. Ook is er prachtig borduurwerk te zien\, gemaakt in samenwerking met zijn moeder\, Constance van Houten.\nVan 13 april t/m 21 september 2025 is in het Dordrechts Museum de tentoonstelling Carel de Nerée. Anders dan de anderen te zien. Het oeuvre van Carel de Nerée tot Babberich (1880-1909) kenmerkt zich als een van de meest intrigerende uit de Nederlandse kunst rond 1900. Zijn geraffineerde tekeningen\, zoals De zwanen en Extaze: Na het offer\, roepen associaties op met het werk van grote Europese fin-de-siècle kunstenaars als Aubrey Beardsley\, Gustav Klimt en Jan Toorop.
URL:https://wbooks.com/event/tentoonstelling-verfijnde-lijnen/
LOCATION:Dordrechts museum\, Museumstraat 40\, Dordrecht\, Zuid- Holland\, 3311 XP\, Nederland
CATEGORIES:tentoonstelling
ATTACH;FMTTYPE=image/png:https://wbooks.com/wp-content/uploads/2024/12/Carel-de-Neree_3D_small_image.png
END:VEVENT
BEGIN:VEVENT
DTSTART;VALUE=DATE:20250906
DTEND;VALUE=DATE:20260202
DTSTAMP:20260424T211956
CREATED:20250903T114744Z
LAST-MODIFIED:20260119T121202Z
UID:189480-1757116800-1769990399@wbooks.com
SUMMARY:Tentoonstelling | Ter Borch
DESCRIPTION:De familie Ter Borch was innig verbonden met Zwolle en in 2025 vieren we met de hele stad hun nalatenschap tijdens Thuis bij Ter Borch. Maak kennis met deze artistieke familie in hun eigen stad. \nVierhonderd jaar geleden was Zwolle de thuishaven van één van de belangrijkste kunstenaarsfamilies van de zeventiende eeuw\, met wereldberoemde telgen als Gerard ter Borch en Gesina ter Borch. Veel tekeningen uit hun jeugd zijn zorgvuldig bewaard door de familie en vormen vandaag de dag een uniek kijkje in het stadse leven van die tijd. De collectie bestaat uit ruim 70 werken op papier en 35 schilderijen\, uit Nederlandse\, Europese en Amerikaanse musea en particuliere verzamelingen.
URL:https://wbooks.com/event/tentoonstelling-ter-borch/
LOCATION:Museum de Fundatie\, Blijmarkt 20\, zwolle\, Overijsel\, 8011 NE\, Netherlands
CATEGORIES:tentoonstelling
ATTACH;FMTTYPE=image/png:https://wbooks.com/wp-content/uploads/2025/09/Thuis-bij-Ter-Borch_3D_small_image.png
ORGANIZER;CN="Museum de Fundatie":MAILTO:info@museumdefundatie.nl
END:VEVENT
END:VCALENDAR